BEGIN:VCALENDAR
VERSION:2.0
PRODID:-//ChamberMaster//Event Calendar 2.0//EN
METHOD:PUBLISH
X-PUBLISHED-TTL:P3D
REFRESH-INTERVAL:P3D
CALSCALE:GREGORIAN
BEGIN:VEVENT
DTSTART:20150402T213000Z
DTEND:20150402T233000Z
X-MICROSOFT-CDO-ALLDAYEVENT:FALSE
SUMMARY:Business to Business Trade Show - VIP Night
DESCRIPTION:Chamber members are invited to attend our Business to Business Trade Show VIP Night\, April 2\, 2015\, 5:30 - 7:30 pm. Network with other Chamber members and learn about the products and services they offer. This event is sponsored by AmeriStaff\, Benchmark Community Bank\, Gateway Health Alliance/Halifax PHO\, and Four Oaks Restaurant.
X-ALT-DESC;FMTTYPE=text/html:Chamber members are invited to attend our Business to Business Trade Show VIP Night\, April 2\, 2015\, 5:30 - 7:30 pm.&nbsp\;Network with other Chamber members and learn about the products and services they offer. This event is sponsored by AmeriStaff\, Benchmark Community Bank\, Gateway Health Alliance/Halifax PHO\, and Four Oaks Restaurant.
LOCATION:The Prizery 700 Bruce Street South Boston\, VA 24592
UID:e.845.2496
SEQUENCE:3
DTSTAMP:20260426T035827Z
URL:https://business.halifaxchamber.net/events/details/business-to-business-trade-show-vip-night-04-02-2015-2496
END:VEVENT

END:VCALENDAR
