BEGIN:VCALENDAR
VERSION:2.0
PRODID:-//ChamberMaster//Event Calendar 2.0//EN
METHOD:PUBLISH
X-PUBLISHED-TTL:P3D
REFRESH-INTERVAL:P3D
CALSCALE:GREGORIAN
BEGIN:VEVENT
DTSTART:20191122T140000Z
DTEND:20191122T220000Z
X-MICROSOFT-CDO-ALLDAYEVENT:FALSE
SUMMARY:Buttercups Open House
DESCRIPTION:Join Buttercups for an Open House. Enjoy refreshments\, Christmas arrangements\, and Poinsettias.
X-ALT-DESC;FMTTYPE=text/html:Join Buttercups for an Open House. Enjoy refreshments\, Christmas arrangements\, and Poinsettias.
LOCATION:Buttercups 1639-A Seymour Drive South Boston\, VA 24592
UID:e.845.15548
SEQUENCE:3
DTSTAMP:20260420T195820Z
URL:https://business.halifaxchamber.net/events/details/buttercups-open-house-15548
END:VEVENT

END:VCALENDAR
