BEGIN:VCALENDAR
VERSION:2.0
PRODID:-//ChamberMaster//Event Calendar 2.0//EN
METHOD:PUBLISH
X-PUBLISHED-TTL:P3D
REFRESH-INTERVAL:P3D
CALSCALE:GREGORIAN
BEGIN:VEVENT
DTSTART:20170615T210000Z
DTEND:20170615T233000Z
X-MICROSOFT-CDO-ALLDAYEVENT:FALSE
SUMMARY:Caboose Grand Opening
DESCRIPTION:After more than three years of renovations\, the South Boston-Halifax County Museum's Norfolk and Western train caboose will be open to the public. The new exhibit will feature an HO scale model railroad demonstraiting the history of railroads in Halifax County from the early 1850s until the late 1930s. Free tours and refreshments will be provided.
X-ALT-DESC;FMTTYPE=text/html:<span style="color: rgb(75\, 79\, 86)\; font-family: 'San Francisco'\, -apple-system\, system-ui\, '.SFNSText-Regular'\, sans-serif\; font-size: 14px\; font-variant-ligatures: normal\; letter-spacing: -0.24px\; orphans: 2\; widows: 2\;">After more than three years of renovations\, the South Boston-Halifax County Museum&#39\;s Norfolk and Western train caboose will be open to the public. The new exhibit will feature an HO scale model railroad demonstraiting the history of railroads in Halifax County from the early 1850s until the late 1930s. Free tours and refreshments will be provided.</span>
LOCATION:The South Boston-Halifax County Museum of Fine Arts and History 1540 Wilborn Ave. South Boston\, VA
UID:e.845.5950
SEQUENCE:3
DTSTAMP:20260422T230623Z
URL:https://business.halifaxchamber.net/events/details/caboose-grand-opening-5950
END:VEVENT

END:VCALENDAR
