BEGIN:VCALENDAR
VERSION:2.0
PRODID:-//ChamberMaster//Event Calendar 2.0//EN
METHOD:PUBLISH
X-PUBLISHED-TTL:P3D
REFRESH-INTERVAL:P3D
CALSCALE:GREGORIAN
BEGIN:VEVENT
DTSTART:20190507T180000Z
DTEND:20190507T210000Z
X-MICROSOFT-CDO-ALLDAYEVENT:FALSE
SUMMARY:Campaign Finance Training
DESCRIPTION:Virginia Department of Elections will be holding campaign finance training. This training will review campaign finance laws and policies. This class is designed for candidates\, campaign staff\, and treasurers of political committees.\n\n\n\nRegister Online Here
X-ALT-DESC;FMTTYPE=text/html:Virginia Department of Elections will be holding campaign finance training. This training will review campaign finance laws and policies. This class is designed for candidates\, campaign staff\, and treasurers of political committees.<br />\n<br />\nRegister Online <a href="https://www.eventbrite.com/e/campaign-finance-training-tickets-60819796649?utm_source=eventbrite&amp\;utm_medium=em&amp\;utm_content=follow_notification&amp\;utm_campaign=following_published_event&amp\;utm_term=Campaign%2BFinance%2BTraining&amp\;aff=ebemoffollowpublishemail">Here</a>
LOCATION:Southern Virginia Higher Education Foundation Boardroom 180 Factory Street South Boston\, VA 24592
UID:e.845.12472
SEQUENCE:3
DTSTAMP:20260421T062326Z
URL:https://business.halifaxchamber.net/events/details/campaign-finance-training-12472
END:VEVENT

END:VCALENDAR
