BEGIN:VCALENDAR
VERSION:2.0
PRODID:-//ChamberMaster//Event Calendar 2.0//EN
METHOD:PUBLISH
X-PUBLISHED-TTL:P3D
REFRESH-INTERVAL:P3D
CALSCALE:GREGORIAN
BEGIN:VEVENT
DTSTART:20190406T010000Z
DTEND:20190406T035500Z
X-MICROSOFT-CDO-ALLDAYEVENT:FALSE
SUMMARY:Can't Get Right live at the World of Sports
DESCRIPTION:Can't Get Right performing live at the World of Sports for the first time.
X-ALT-DESC;FMTTYPE=text/html:Can&#39\;t Get Right performing live at the World of Sports for the first time.&nbsp\;
LOCATION:World of Sports 2030 Bill Tuck Highway South Boston\, VA 24592
UID:e.845.12407
SEQUENCE:3
DTSTAMP:20260421T080319Z
URL:https://business.halifaxchamber.net/events/details/can-t-get-right-live-at-the-world-of-sports-12407
END:VEVENT

END:VCALENDAR
