BEGIN:VCALENDAR
VERSION:2.0
PRODID:-//ChamberMaster//Event Calendar 2.0//EN
METHOD:PUBLISH
X-PUBLISHED-TTL:P3D
REFRESH-INTERVAL:P3D
CALSCALE:GREGORIAN
BEGIN:VEVENT
DTSTART:20191030T220000Z
DTEND:20191030T233000Z
X-MICROSOFT-CDO-ALLDAYEVENT:FALSE
SUMMARY:Candidate Forum and Town Hall - Constitutional Officers/Tiebreaker/ED8
DESCRIPTION:A candidate forum for constitutional officers\, tiebreaker\, and election district 8 will be held on Wednesday\, October 30\, in the Prizery Theatre at 6:00 pm. Invited candidates include those running for Sheriff\, Fred Clark and John Tanner\; Commonwealth Attorney\, Tracy Martin\; Commissioner of Revenue\, Brenda Powell\; Treasurer\, Ruth Anne Oakes\; Tiebreaker\, Larry Roller\; Election District 8 Board of Supervisors\, William Bryant Claiborne\; and Election District 8 School Board\, Walter Potts.\n\n\n\nEvery candidate running for elected office received a letter inviting them to attend their respective forum. These forums are free and open to the public.\n\n\n\nFollowing each candidate forum\, a presentation on the sales tax referendum will be made. The presentation is designed to help voters understand the issues and impacts on Halifax County. A town hall will be held to answer any questions citizens may have regarding the referendum.
X-ALT-DESC;FMTTYPE=text/html:<span style="color:black\;">A candidate forum for constitutional officers\, tiebreaker\, and election district 8 will be held on Wednesday\, October 30\, in the Prizery Theatre at 6:00 pm. Invited candidates include those running for Sheriff\, Fred Clark and John Tanner\; Commonwealth Attorney\, Tracy Martin\; Commissioner of Revenue\, Brenda Powell\; Treasurer\, Ruth Anne Oakes\; Tiebreaker\, Larry Roller\; Election District 8 Board of Supervisors\, William Bryant Claiborne\; and Election District 8 School Board\, Walter Potts.<br />\n<br />\nEvery candidate running for elected office received a letter inviting them to attend their respective forum. These forums are free and open to the public.</span><br />\n<br />\n<span style="color:black\;">Following each candidate forum\, a presentation on the sales tax referendum will be made. The presentation is designed to help voters understand the issues and impacts on Halifax County. A town hall will be held to answer any questions citizens may have regarding the referendum.</span><br />\n&nbsp\;
LOCATION:Prizery Theatre
UID:e.845.13302
SEQUENCE:3
DTSTAMP:20260420T220929Z
URL:https://business.halifaxchamber.net/events/details/candidate-forum-and-town-hall-constitutional-officers-tiebreaker-ed8-13302
END:VEVENT

END:VCALENDAR
