BEGIN:VCALENDAR
VERSION:2.0
PRODID:-//ChamberMaster//Event Calendar 2.0//EN
METHOD:PUBLISH
X-PUBLISHED-TTL:P3D
REFRESH-INTERVAL:P3D
CALSCALE:GREGORIAN
BEGIN:VEVENT
DTSTART:20181101T220000Z
DTEND:20181101T230000Z
X-MICROSOFT-CDO-ALLDAYEVENT:FALSE
SUMMARY:Candidate Forum for Halifax Town Council
DESCRIPTION:Candidate Forum to be held November 1 for Halifax Town Council\n\n \n\nThe Halifax County Chamber of Commerce will host a Candidate Forum for Halifax Town Council on Thursday\, November 1\, 6:00 pm\, at Town Hall in Halifax. The forum is sponsored by the Chamber and will be moderated by WHLF 95.3 FM's Nick Long.\n\n \n\nMayoral candidates and council members seeking re-election have been invited to participate in the forum.\n\n \n\nFor those who cannot attend\, the forum will be broadcasted on WHLF 95.3.
X-ALT-DESC;FMTTYPE=text/html:<div style="color: rgb(76\, 76\, 76)\; font-family: Arial\, Verdana\, Helvetica\, sans-serif\; font-size: 16px\;"><span style="font-size: 15px\; font-weight: bold\;">Candidate Forum to be held November 1 for Halifax Town Council</span></div>\n\n<div style="color: rgb(76\, 76\, 76)\; font-family: Arial\, Verdana\, Helvetica\, sans-serif\; font-size: 16px\;">&nbsp\;</div>\n\n<div style="color: rgb(76\, 76\, 76)\; font-family: Arial\, Verdana\, Helvetica\, sans-serif\; font-size: 16px\;"><span style="font-size: 15px\;">The Halifax County Chamber of Commerce will host a Candidate Forum for Halifax Town Council on Thursday\, November 1\, 6:00 pm\, at Town Hall in Halifax. The forum is sponsored by the Chamber and will be moderated by WHLF 95.3 FM&rsquo\;s Nick Long.</span></div>\n\n<div style="color: rgb(76\, 76\, 76)\; font-family: Arial\, Verdana\, Helvetica\, sans-serif\; font-size: 16px\;">&nbsp\;</div>\n\n<div style="color: rgb(76\, 76\, 76)\; font-family: Arial\, Verdana\, Helvetica\, sans-serif\; font-size: 16px\;"><span style="font-size: 15px\;">Mayoral candidates and council members seeking re-election have been invited to participate in the forum.</span></div>\n\n<div style="color: rgb(76\, 76\, 76)\; font-family: Arial\, Verdana\, Helvetica\, sans-serif\; font-size: 16px\;">&nbsp\;</div>\n\n<div style="color: rgb(76\, 76\, 76)\; font-family: Arial\, Verdana\, Helvetica\, sans-serif\; font-size: 16px\;"><span style="font-size: 15px\;">For those who cannot attend\, the forum will be broadcasted on WHLF 95.3.</span></div>\n
LOCATION:Town Hall in Halifax\, VA
UID:e.845.8555
SEQUENCE:3
DTSTAMP:20260421T152952Z
URL:https://business.halifaxchamber.net/events/details/candidate-forum-for-halifax-town-council-8555
END:VEVENT

END:VCALENDAR
