BEGIN:VCALENDAR
VERSION:2.0
PRODID:-//ChamberMaster//Event Calendar 2.0//EN
METHOD:PUBLISH
X-PUBLISHED-TTL:P3D
REFRESH-INTERVAL:P3D
CALSCALE:GREGORIAN
BEGIN:VEVENT
DTSTART:20180426T223000Z
DTEND:20180426T233000Z
X-MICROSOFT-CDO-ALLDAYEVENT:FALSE
SUMMARY:Candidate Forum - South Boston Town Council
DESCRIPTION:The Halifax County Chamber of Commerce hosting a Candidate Forum on Thursday\, April 26 for South Boston Town Council. The forum begins at 6:30 pm and will be held in the Southern Virginia Higher Education Foundation Boardroom of the SVHEC located at 820 Bruce Street. Nick Long\, general manager of WHLF 95.3\, will moderate the forum. Those interested in submitting questions for the forum can submit those questions via email to info@halifaxchamber.net. \n\n \n\nThe forum will begin with a conversation with those running for Town Council. Candidates will be given an opportunity to communicate their positions on pressing issues. Those invited include Winston Harrell\, Sharon Harris\, W. R. "Bill" Snead\, and Coleman Speece. There is a four-way race for three seats.\n\n\n\nMichael Byrd has also been invited\, but is the only candidate qualifying for a special election to fill the unexpired term of the late Billy Clarke.\n\n\n\nHarrell\, Harris\, Snead\, and Speece are running for four-year terms on council\, while the winner of the special election will serve the remainder of Clarke's term that expires June 30\, 2020.\n\n\n\nElection Day is Tuesday\, May 1.
X-ALT-DESC;FMTTYPE=text/html:<span style="font-size:11pt\;">The Halifax County Chamber of Commerce hosting a Candidate Forum on Thursday\, April 26 for South Boston Town Council. The forum begins at 6:30 pm and will be held in the Southern Virginia Higher Education Foundation Boardroom of the SVHEC located at 820 Bruce Street. Nick Long\, general manager&nbsp\;</span><span style="font-size:11pt\;">of WHLF 95.3\, will moderate the forum. Those interested in submitting questions for the forum can submit those questions via email to&nbsp\;</span><a href="mailto:info@halifaxchamber.net" style="color:rgb(149\, 79\, 114)\;"><span style="color:black\;"><span style="font-size:11pt\;">info@halifaxchamber.net</span></span></a><span style="font-size:11pt\;">.&nbsp\;</span><br />\n&nbsp\;<br />\n<span style="font-family:calibri\,sans-serif\;"><span style="font-size:11pt\;">The forum will begin with a conversation with those running for Town Council. Candidates will be given an&nbsp\;opportunity to communicate their positions on pressing issues. Those invited include Winston Harrell\, Sharon Harris\, W. R. &ldquo\;Bill&rdquo\; Snead\, and Coleman Speece. There is a four-way race for three seats.</span></span><br />\n<br />\n<span style="font-family:calibri\,sans-serif\;"><span style="font-size:11pt\;">Michael Byrd has also been invited\, but is the only candidate qualifying for a special election to fill the unexpired term of the late Billy Clarke.</span></span><br />\n<br />\n<span style="font-family:calibri\,sans-serif\;"><span style="font-size:11pt\;">Harrell\, Harris\, Snead\, and Speece are running for four-year terms on council\, while the winner of the special election will serve the remainder of Clarke&rsquo\;s term that expires June 30\, 2020.</span></span><br />\n<br />\n<span style="font-size:11pt\;">Election Day is Tuesday\, May 1.&nbsp\;</span>
LOCATION:Southern Virginia Higher Education Foundation Boardroom SVHEC 820 Bruce Street South Boston\, VA 24592
UID:e.845.8278
SEQUENCE:3
DTSTAMP:20260422T052252Z
URL:https://business.halifaxchamber.net/events/details/candidate-forum-south-boston-town-council-8278
END:VEVENT

END:VCALENDAR
