BEGIN:VCALENDAR
VERSION:2.0
PRODID:-//ChamberMaster//Event Calendar 2.0//EN
METHOD:PUBLISH
X-PUBLISHED-TTL:P3D
REFRESH-INTERVAL:P3D
CALSCALE:GREGORIAN
BEGIN:VEVENT
DTSTART:20191117T233000Z
DTEND:20191118T003000Z
X-MICROSOFT-CDO-ALLDAYEVENT:FALSE
SUMMARY:Candlelight Yoga
DESCRIPTION:$12 per class - includes a beer after the yoga session\n\nPlease register 15 minutes before class
X-ALT-DESC;FMTTYPE=text/html:$12 per class - includes a beer after the yoga session<br />\nPlease register 15 minutes before class
LOCATION:Berry Hill Resort 3105 River Road South Boston\, VA 24592
UID:e.845.15534
SEQUENCE:3
DTSTAMP:20260420T195821Z
URL:https://business.halifaxchamber.net/events/details/candlelight-yoga-15534
END:VEVENT

END:VCALENDAR
