BEGIN:VCALENDAR
VERSION:2.0
PRODID:-//ChamberMaster//Event Calendar 2.0//EN
METHOD:PUBLISH
X-PUBLISHED-TTL:P3D
REFRESH-INTERVAL:P3D
CALSCALE:GREGORIAN
BEGIN:VEVENT
DTSTART:20191215T233000Z
DTEND:20191216T003000Z
X-MICROSOFT-CDO-ALLDAYEVENT:FALSE
SUMMARY:Candlelight Yoga with Donna
DESCRIPTION:$12 per class includes a beer after the yoga session\n\n\n\nPlease register 15 minutes before class.
X-ALT-DESC;FMTTYPE=text/html:<span style="color:rgb(29\, 33\, 41)\; font-family:system-ui\,-apple-system\,system-ui\,.sfnstext-regular\,sans-serif\; font-size:14px">$12 per class includes a beer after the yoga session</span><br />\n<br />\n<span style="color:rgb(29\, 33\, 41)\; font-family:system-ui\,-apple-system\,system-ui\,.sfnstext-regular\,sans-serif\; font-size:14px">Please register 15 minutes before class.</span>
LOCATION:Berry Hill Resort 3105 River Rd\, South Boston\, VA 24592
UID:e.845.15607
SEQUENCE:3
DTSTAMP:20260420T183025Z
URL:https://business.halifaxchamber.net/events/details/candlelight-yoga-with-donna-15607
END:VEVENT

END:VCALENDAR
