BEGIN:VCALENDAR
VERSION:2.0
PRODID:-//ChamberMaster//Event Calendar 2.0//EN
METHOD:PUBLISH
X-PUBLISHED-TTL:P3D
REFRESH-INTERVAL:P3D
CALSCALE:GREGORIAN
BEGIN:VEVENT
DTSTART:20170401T140000Z
DTEND:20170401T160000Z
X-MICROSOFT-CDO-ALLDAYEVENT:FALSE
SUMMARY:Candy Drop at Commonwealth Senior Living
DESCRIPTION:Come join the Commonwealth Senior Living Community for a Candy Drop.\n\n\n\nA helicopter will hover overhead\, dropping 3\,000 pieces of candy on the Commonwealth Senior Living at South Boston lawn. Bring the kids\, and stay for a tour of our beautiful community.\n\n\n\nCo-Sponsors of this event are the following:\n\nCharles Anderson Lawn Care\n\nReaves Lawn and Garden\n\nFry Jordan and Wilson Insurance\n\nBrandon Scearce Nationwide Insurance\n\n\n\nRSVP! (434) 575-5400
X-ALT-DESC;FMTTYPE=text/html:Come join the Commonwealth Senior Living Community for a Candy Drop.<br />\n<br />\nA helicopter will hover overhead\, dropping 3\,000 pieces of candy on the Commonwealth Senior Living at South Boston lawn. Bring the kids\, and stay for a tour of our beautiful community.<br />\n<br />\nCo-Sponsors of this event are the following:<br />\nCharles Anderson Lawn Care<br />\nReaves Lawn and Garden<br />\nFry Jordan and Wilson Insurance<br />\nBrandon Scearce Nationwide Insurance<br />\n<br />\nRSVP! (434) 575-5400
LOCATION:Commonwealth Senior Living at South Boston 4435 Hamilton Blvd. South Boston\, VA 24592
UID:e.845.5883
SEQUENCE:3
DTSTAMP:20260424T114018Z
URL:https://business.halifaxchamber.net/events/details/candy-drop-at-commonwealth-senior-living-5883
END:VEVENT

END:VCALENDAR
