BEGIN:VCALENDAR
VERSION:2.0
PRODID:-//ChamberMaster//Event Calendar 2.0//EN
METHOD:PUBLISH
X-PUBLISHED-TTL:P3D
REFRESH-INTERVAL:P3D
CALSCALE:GREGORIAN
BEGIN:VEVENT
DTSTART:20200401T123000Z
DTEND:20200401T140000Z
X-MICROSOFT-CDO-ALLDAYEVENT:FALSE
SUMMARY:Canva for Beginners
DESCRIPTION:This training will teach you the basics of using Canva to improve your marketing and brand presentation. This versatile\, low cost tool has a lot of easy options   including some free ones   that will make even the least design savvy seem like they got skillz. Use it to make your social media content\, presentations\, print media\, and t-shirts stand out from the crowd!
X-ALT-DESC;FMTTYPE=text/html:<span style="color: rgb(0\, 0\, 0)\; font-family: Arial\; font-size: 16px\; white-space: pre-wrap\; background-color: rgb(250\, 250\, 250)\;">This training will teach you the basics of using Canva to improve your marketing and brand presentation. This versatile\, low cost tool has a lot of easy options &ndash\; including some free ones &ndash\; that will make even the least design savvy seem like they got skillz. Use it to make your social media content\, presentations\, print media\, and t-shirts stand out from the crowd! </span>
LOCATION:Zoom Online Register at: https://clients.virginiasbdc.org/reg.aspx?mode=event&event=80400002
UID:e.845.17536
SEQUENCE:3
DTSTAMP:20260420T114144Z
URL:https://business.halifaxchamber.net/events/details/canva-for-beginners-17536
END:VEVENT

END:VCALENDAR
