BEGIN:VCALENDAR
VERSION:2.0
PRODID:-//ChamberMaster//Event Calendar 2.0//EN
METHOD:PUBLISH
X-PUBLISHED-TTL:P3D
REFRESH-INTERVAL:P3D
CALSCALE:GREGORIAN
BEGIN:VEVENT
DTSTART:20190430T160000Z
DTEND:20190430T180000Z
X-MICROSOFT-CDO-ALLDAYEVENT:FALSE
SUMMARY:Capital Campaign "Kick Off" Luncheon
DESCRIPTION:CAPITAL CAMPAIGN - "KICK OFF" for the construction of a NEW Halifax County High School featuring Coach Frank Beamer.\n\n\n\nFor more information please contact: \n\nScott Worner (434) 476-3152 \n\nsworner@halifax.k12.va.us
X-ALT-DESC;FMTTYPE=text/html:<span style="caret-color: rgb(29\, 33\, 41)\; color: rgb(29\, 33\, 41)\; font-family: system-ui\, -apple-system\, BlinkMacSystemFont\, &quot\;.SFNSText-Regular&quot\;\, sans-serif\; font-size: 14px\;">CAPITAL CAMPAIGN - &quot\;KICK OFF&quot\; for the construction of a NEW Halifax County High School featuring Coach Frank Beamer.<br />\n<br />\nFor more information please contact:&nbsp\;</span><br style="caret-color: rgb(29\, 33\, 41)\; color: rgb(29\, 33\, 41)\; font-family: system-ui\, -apple-system\, BlinkMacSystemFont\, &quot\;.SFNSText-Regular&quot\;\, sans-serif\; font-size: 14px\;" />\n<span style="caret-color: rgb(29\, 33\, 41)\; color: rgb(29\, 33\, 41)\; font-family: system-ui\, -apple-system\, BlinkMacSystemFont\, &quot\;.SFNSText-Regular&quot\;\, sans-serif\; font-size: 14px\;">Scott Worner (434) 476-3152&nbsp\;</span><br style="caret-color: rgb(29\, 33\, 41)\; color: rgb(29\, 33\, 41)\; font-family: system-ui\, -apple-system\, BlinkMacSystemFont\, &quot\;.SFNSText-Regular&quot\;\, sans-serif\; font-size: 14px\;" />\n<span style="caret-color: rgb(29\, 33\, 41)\; color: rgb(29\, 33\, 41)\; font-family: system-ui\, -apple-system\, BlinkMacSystemFont\, &quot\;.SFNSText-Regular&quot\;\, sans-serif\; font-size: 14px\;">sworner@halifax.k12.va.us</span>
LOCATION:The Prizery
UID:e.845.12422
SEQUENCE:3
DTSTAMP:20260421T075928Z
URL:https://business.halifaxchamber.net/events/details/capital-campaign-kick-off-luncheon-12422
END:VEVENT

END:VCALENDAR
