BEGIN:VCALENDAR
VERSION:2.0
PRODID:-//ChamberMaster//Event Calendar 2.0//EN
METHOD:PUBLISH
X-PUBLISHED-TTL:P3D
REFRESH-INTERVAL:P3D
CALSCALE:GREGORIAN
BEGIN:VEVENT
DTSTART:20190219T231500Z
DTEND:20190220T003000Z
X-MICROSOFT-CDO-ALLDAYEVENT:FALSE
SUMMARY:Career Tech Academy Information Session
DESCRIPTION:RISING 11-12TH GRADERS FROM RANDOLPH HENRY\, HALIFAX\, & BLUESTONE \n\n \n\n\n\n\nINFORMATION: \n\n APPLICATION PROCESS \n\n CTA PROGRAM SCHEDULE \n\n LEARN ABOUT INDUSTRY \n\nRECOGNIZED CREDENTIALS EARNED \n\nHANDS-ON INSTRUCTIONAL EXPERIENCES \n\nCOLLEGE CREDITS EARNED \n\nWORKFORCE READINESS\n\n\n\nMEET THE INSTRUCTORS & CURRENT STUDENTS ENROLLED IN THE CTA PROGRAMS \n\nTOUR THE SVHEC & CTA LABS \n\nOPPORTUNITY FOR Q & A FOR PARENTS
X-ALT-DESC;FMTTYPE=text/html:<div>\n<div>\n<div>\n<p><span style="font-size:14px\;"><span style="color: rgb(141\, 139\, 0)\; font-family: impact\;">RISING 11-</span><span style="color: rgb(141\, 139\, 0)\; font-family: impact\;">12TH GRADERS FROM RANDOLPH HENRY\, HALIFAX\, &amp\; BLUESTONE </span></span><br />\n&nbsp\;</p>\n\n<div>\n<div>\n<div>\n<p><span style="font-size:14px\;"><span style="color: rgb(41\, 41\, 41)\; font-family: impact\;">INFORMATION: </span></span></p>\n\n<p><span style="font-size:14px\;"><span style="color: rgb(141\, 139\, 0)\; font-family: symbolmt\;">&nbsp\;</span><span style="color: rgb(141\, 139\, 0)\; font-family: impact\;">APPLICATION PROCESS </span></span></p>\n\n<p><span style="font-size:14px\;"><span style="color: rgb(0\, 176\, 240)\; font-family: symbolmt\;">&nbsp\;</span><span style="color: rgb(0\, 176\, 240)\; font-family: impact\;">CTA PROGRAM SCHEDULE </span></span></p>\n\n<p><span style="font-size:14px\;"><span style="color: rgb(141\, 139\, 0)\; font-family: symbolmt\;">&nbsp\;</span><span style="color: rgb(141\, 139\, 0)\; font-family: impact\;">LEARN ABOUT INDUSTRY </span></span></p>\n\n<p><span style="font-size:14px\;"><span style="color: rgb(141\, 139\, 0)\; font-family: impact\;">RECOGNIZED CREDENTIALS EARNED </span></span></p>\n\n<p><span style="font-size:14px\;"><span style="color: rgb(0\, 176\, 240)\; font-family: impact\;">HANDS-ON INSTRUCTIONAL EXPERIENCES </span></span></p>\n\n<p><span style="font-size:14px\;"><span style="color: rgb(141\, 139\, 0)\; font-family: impact\;">COLLEGE CREDITS EARNED </span></span></p>\n\n<p><span style="font-size:14px\;"><span style="color: rgb(0\, 176\, 240)\; font-family: impact\;">WORKFORCE READINESS</span><br />\n<br />\n<span style="color: rgb(141\, 139\, 0)\; font-family: impact\;">MEET THE INSTRUCTORS &amp\; CURRENT STUDENTS ENROLLED IN THE CTA PROGRAMS </span></span></p>\n\n<p><span style="font-size:14px\;"><span style="color: rgb(0\, 176\, 240)\; font-family: impact\;">TOUR THE SVHEC &amp\; CTA LABS </span></span></p>\n\n<p><span style="font-size:14px\;"><span style="color: rgb(141\, 139\, 0)\; font-family: impact\;">OPPORTUNITY FOR Q &amp\; A FOR PARENTS </span></span></p>\n</div>\n</div>\n</div>\n</div>\n</div>\n</div>\n
LOCATION:Southern Virginia Higher Education Center Innovation Center 820 Bruce Street\, South Boston\, VA
UID:e.845.11715
SEQUENCE:3
DTSTAMP:20260421T122234Z
URL:https://business.halifaxchamber.net/events/details/career-tech-academy-information-session-11715
END:VEVENT

END:VCALENDAR
