BEGIN:VCALENDAR
VERSION:2.0
PRODID:-//ChamberMaster//Event Calendar 2.0//EN
METHOD:PUBLISH
X-PUBLISHED-TTL:P3D
REFRESH-INTERVAL:P3D
CALSCALE:GREGORIAN
BEGIN:VEVENT
DTSTART:20190628T153000Z
DTEND:20190628T173000Z
X-MICROSOFT-CDO-ALLDAYEVENT:FALSE
SUMMARY:Caregiver Lunch & Learn
DESCRIPTION:Join Sentara for a Caregiver Lunch & Learn.\n\nThey will be discussing home health and hospice services\, as well as advanced directives and end of life planning.\n\nLunch will be served and advanced directives will be available to be completed on site.\n\nThe event is free to attend\, but registration is required 434.517.3538.\n\nSpace is limited.
X-ALT-DESC;FMTTYPE=text/html:Join Sentara for a Caregiver Lunch &amp\; Learn.<br />\nThey will be discussing home health and hospice services\, as well as advanced directives and end of life planning.<br />\nLunch will be served and advanced directives will be available to be completed on site.<br />\nThe event is free to attend\, but registration is required 434.517.3538.<br />\nSpace is limited.
LOCATION:Sentara Halifax Regional Hospital Leggett Auditorium 2204 Wilborn Avenue South Boston\, VA 24592
UID:e.845.13144
SEQUENCE:3
DTSTAMP:20260421T044016Z
URL:https://business.halifaxchamber.net/events/details/caregiver-lunch-learn-13144
END:VEVENT

END:VCALENDAR
