BEGIN:VCALENDAR
VERSION:2.0
PRODID:-//ChamberMaster//Event Calendar 2.0//EN
METHOD:PUBLISH
X-PUBLISHED-TTL:P3D
REFRESH-INTERVAL:P3D
CALSCALE:GREGORIAN
BEGIN:VEVENT
DTSTART:20171218T223000Z
DTEND:20171219T003000Z
X-MICROSOFT-CDO-ALLDAYEVENT:FALSE
SUMMARY:Caroling
DESCRIPTION:Celebrate the joyous season with carols! Join The Prizery's One Community Committee for an evening of caroling. All are welcome. No signing experience necessary. \n\n\n\nCaroling will be followed by hot chocolate at Brooks Lyon Funeral Home.
X-ALT-DESC;FMTTYPE=text/html:Celebrate the joyous season with carols! Join The Prizery&#39\;s&nbsp\;One Community Committee for an evening of caroling. All are welcome. No signing experience necessary.&nbsp\;<br />\n<br />\nCaroling will be followed by hot chocolate at Brooks Lyon Funeral Home.&nbsp\;
LOCATION:Constitution Square
UID:e.845.7176
SEQUENCE:3
DTSTAMP:20260422T103641Z
URL:https://business.halifaxchamber.net/events/details/caroling-7176
END:VEVENT

END:VCALENDAR
