BEGIN:VCALENDAR
VERSION:2.0
PRODID:-//ChamberMaster//Event Calendar 2.0//EN
METHOD:PUBLISH
X-PUBLISHED-TTL:P3D
REFRESH-INTERVAL:P3D
CALSCALE:GREGORIAN
BEGIN:VEVENT
DTSTART:20181218T223000Z
DTEND:20181219T000000Z
X-MICROSOFT-CDO-ALLDAYEVENT:FALSE
SUMMARY:Caroling in the Square
DESCRIPTION:The Prizery's One Community Initiative invites all who want to participate to join Caroling in the Square\, and through downtown South Boston. A fun time for fellowship and sharing the Season.
X-ALT-DESC;FMTTYPE=text/html:<span style="caret-color: rgb(51\, 51\, 51)\; color: rgb(51\, 51\, 51)\; font-family: Helvetica\, Arial\, sans-serif\; font-size: 15px\; background-color: rgba(245\, 240\, 236\, 0.498039)\;">The Prizery&#39\;s One Community Initiative invites all who want to participate to join Caroling in the Square\, and through downtown South Boston. A fun time for fellowship and sharing the Season.</span>
LOCATION:Constitution Square- South Boston
UID:e.845.8817
SEQUENCE:3
DTSTAMP:20260421T135914Z
URL:https://business.halifaxchamber.net/events/details/caroling-in-the-square-8817
END:VEVENT

END:VCALENDAR
