BEGIN:VCALENDAR
VERSION:2.0
PRODID:-//ChamberMaster//Event Calendar 2.0//EN
METHOD:PUBLISH
X-PUBLISHED-TTL:P3D
REFRESH-INTERVAL:P3D
CALSCALE:GREGORIAN
BEGIN:VEVENT
DTSTART:20181005T233000Z
DTEND:20181006T010000Z
X-MICROSOFT-CDO-ALLDAYEVENT:FALSE
SUMMARY:Cashore Marionettes
DESCRIPTION:THE CASHORE MARIONETTES are unmatched in artistry\, grace and refinement of movement. The internationally acclaimed Cashore Marionettes redefine the art of puppetry. The moving and humorous performances have astounded audiences in Europe\, the Far East and across North America including stops at the Kennedy Center\, Annenberg Center\, Kravis Center\, and many others.
X-ALT-DESC;FMTTYPE=text/html:<span style="caret-color: rgb(51\, 51\, 51)\; color: rgb(51\, 51\, 51)\; font-family: Helvetica\, Arial\, sans-serif\; font-size: 15px\; background-color: rgba(245\, 240\, 236\, 0.498039)\;">THE CASHORE MARIONETTES are unmatched in artistry\, grace and refinement of movement. The internationally acclaimed Cashore Marionettes redefine the art of puppetry. The moving and humorous performances have astounded audiences in Europe\, the Far East and across North America including stops at the Kennedy Center\, Annenberg Center\, Kravis Center\, and many others.</span>
LOCATION:The Prizery South Boston\, VA 24592
UID:e.845.8518
SEQUENCE:3
DTSTAMP:20260421T185109Z
URL:https://business.halifaxchamber.net/events/details/cashore-marionettes-8518
END:VEVENT

END:VCALENDAR
