BEGIN:VCALENDAR
VERSION:2.0
PRODID:-//ChamberMaster//Event Calendar 2.0//EN
METHOD:PUBLISH
X-PUBLISHED-TTL:P3D
REFRESH-INTERVAL:P3D
CALSCALE:GREGORIAN
BEGIN:VEVENT
DTSTART;VALUE=DATE:20160917
DTEND;VALUE=DATE:20160919
TRANSP:TRANSPARENT
X-MICROSOFT-CDO-ALLDAYEVENT:TRUE
SUMMARY:CCS Fall CycleFest Of Speed Motorcycle Road Racing
DESCRIPTION:VIRginia International Raceway's Championship Cup Series End-of-Summer CycleFest brings some of motorcycle road racing's best teams and riders onto the track. Look for extremely close\, side-by-side\, knee dragging action as the contenders separate themselves from the pretenders for the coveted season crown! There will be more than 100 riders throughout the weekend and several different classes.
X-ALT-DESC;FMTTYPE=text/html:<p>VIRginia International Raceway&rsquo\;s Championship Cup Series End-of-Summer CycleFest brings some of motorcycle road racing&rsquo\;s best teams and riders onto the track. Look for extremely close\, side-by-side\, knee dragging action as the contenders separate themselves from the pretenders for the coveted season crown! There will be more than 100 riders throughout the weekend and several different classes.</p>\n\n<div style="color: rgb(34\, 34\, 34)\;">&nbsp\;</div>\n\n<p>&nbsp\;</p>\n
LOCATION:Virginia International Raceway 1245 Pine Tree Road Alton\, VA 24520
UID:e.845.4608
SEQUENCE:3
DTSTAMP:20260424T225443Z
URL:https://business.halifaxchamber.net/events/details/ccs-fall-cyclefest-of-speed-motorcycle-road-racing-09-17-2016-4608
END:VEVENT

END:VCALENDAR
