BEGIN:VCALENDAR
VERSION:2.0
PRODID:-//ChamberMaster//Event Calendar 2.0//EN
METHOD:PUBLISH
X-PUBLISHED-TTL:P3D
REFRESH-INTERVAL:P3D
CALSCALE:GREGORIAN
BEGIN:VEVENT
DTSTART:20170812T010000Z
DTEND:20170812T035500Z
X-MICROSOFT-CDO-ALLDAYEVENT:FALSE
SUMMARY:Chad Campbell & Danny Martin at JB's
DESCRIPTION:Chad Campbell and Danny Martin performing live at JB's Burgers\, Apps and Taps
X-ALT-DESC;FMTTYPE=text/html:Chad Campbell and Danny Martin performing live at JB&#39\;s Burgers\, Apps and Taps&nbsp\;
LOCATION:World of Sports JB's Burgers\, Apps and Taps 2030 Bill Tuck Highway South Boston\, VA 24592
UID:e.845.7047
SEQUENCE:3
DTSTAMP:20260422T194441Z
URL:https://business.halifaxchamber.net/events/details/chad-campbell-danny-martin-at-jb-s-7047
END:VEVENT

END:VCALENDAR
