BEGIN:VCALENDAR
VERSION:2.0
PRODID:-//ChamberMaster//Event Calendar 2.0//EN
METHOD:PUBLISH
X-PUBLISHED-TTL:P3D
REFRESH-INTERVAL:P3D
CALSCALE:GREGORIAN
BEGIN:VEVENT
DTSTART:20190622T220000Z
DTEND:20190623T010000Z
X-MICROSOFT-CDO-ALLDAYEVENT:FALSE
SUMMARY:Chad Cash at Hill Top at the Lake
DESCRIPTION:Come do a tasting of fantastic\, handcrafted True to the Fruit Wines and Authentic Honey Meads! Hang out with a glass of your favorite and listen to one of our favorite entertainers\, musician and vocalist\, Chad Cash. Admission is just $10 which includes a wine tasting\, a glass of wine or mead of your choice and you can even keep your logo glass! You are welcome to bring food. What a great way to relax after a day on the lake!
X-ALT-DESC;FMTTYPE=text/html:<span style="color: rgb(29\, 33\, 41)\; font-family: system-ui\, -apple-system\, system-ui\, &quot\;.SFNSText-Regular&quot\;\, sans-serif\; font-size: 14px\; white-space: pre-wrap\;">Come do a tasting of fantastic\, handcrafted True to the Fruit Wines and Authentic Honey Meads! Hang out with a glass of your favorite and listen to one of our favorite entertainers\, musician and vocalist\, Chad Cash. Admission is just $10 which includes a wine tasting\, a glass of wine or mead of your choice and you can even keep your logo glass! You are welcome to bring food. What a great way to relax after a day on the lake! </span>
LOCATION:Hill Top at the Lake 320 Virginia Avenue Clarksville\, Va 23927
UID:e.845.13207
SEQUENCE:3
DTSTAMP:20260421T044556Z
URL:https://business.halifaxchamber.net/events/details/chad-cash-at-hill-top-at-the-lake-13207
END:VEVENT

END:VCALENDAR
