BEGIN:VCALENDAR
VERSION:2.0
PRODID:-//ChamberMaster//Event Calendar 2.0//EN
METHOD:PUBLISH
X-PUBLISHED-TTL:P3D
REFRESH-INTERVAL:P3D
CALSCALE:GREGORIAN
BEGIN:VEVENT
DTSTART:20170701T010000Z
DTEND:20170701T035500Z
X-MICROSOFT-CDO-ALLDAYEVENT:FALSE
SUMMARY:Chad & Dano at Main Street Cafe
DESCRIPTION:Chad Campbell\, Dano Electro and Jake Overstreet performing 90s Rock!
X-ALT-DESC;FMTTYPE=text/html:Chad Campbell\, Dano&nbsp\;Electro and Jake Overstreet performing 90s Rock!&nbsp\;
LOCATION:Main Street Cafe 521 North Main Street South Boston\, VA
UID:e.845.7013
SEQUENCE:3
DTSTAMP:20260422T212317Z
URL:https://business.halifaxchamber.net/events/details/chad-dano-at-main-street-cafe-7013
END:VEVENT

END:VCALENDAR
