BEGIN:VCALENDAR
VERSION:2.0
PRODID:-//ChamberMaster//Event Calendar 2.0//EN
METHOD:PUBLISH
X-PUBLISHED-TTL:P3D
REFRESH-INTERVAL:P3D
CALSCALE:GREGORIAN
BEGIN:VEVENT
DTSTART;VALUE=DATE:20170916
DTEND;VALUE=DATE:20170918
TRANSP:TRANSPARENT
X-MICROSOFT-CDO-ALLDAYEVENT:TRUE
SUMMARY:Champion Cup Series Fall CycleFest of Speed
DESCRIPTION:VIRginia International Raceway's Championship Cup Series End-of-Summer CycleFest brings some of motorcycle road racing's best teams and riders onto the track. Look for extremely close\, side-by-side\, knee dragging action as the contenders separate themselves from the pretenders for the coveted season crown! There will be more than 100 riders throughout the weekend and several different classes.
X-ALT-DESC;FMTTYPE=text/html:<p><span style="color:rgb(0\, 0\, 0)\; font-family:helveticaneue-light\,helvetica neue light\,helvetica neue\,helvetica\,arial\,lucida grande\,sans-serif\; font-size:16px">VIRginia International Raceway&rsquo\;s&nbsp\;</span><a href="http://www.ccsracing.us/" style="box-sizing: border-box\; -webkit-transition: all 0.3s\; transition: all 0.3s\; color: rgb(0\, 105\, 64)\; font-family: HelveticaNeue-Light\, 'Helvetica Neue Light'\, 'Helvetica Neue'\, Helvetica\, Arial\, 'Lucida Grande'\, sans-serif\; font-size: 16px\;" target="_blank">Championship Cup Series</a><span style="color:rgb(0\, 0\, 0)\; font-family:helveticaneue-light\,helvetica neue light\,helvetica neue\,helvetica\,arial\,lucida grande\,sans-serif\; font-size:16px">&nbsp\;End-of-Summer CycleFest brings some of motorcycle road racing&rsquo\;s best teams and riders onto the track. Look for extremely close\, side-by-side\, knee dragging action as the contenders separate themselves from the pretenders for the coveted season crown! There will be more than 100 riders throughout the weekend and several different classes.</span></p>\n
LOCATION:VIRginia International Raceway 1245 Pine Tree Road Alton\, VA 24520
UID:e.845.5766
SEQUENCE:3
DTSTAMP:20260422T160048Z
URL:https://business.halifaxchamber.net/events/details/champion-cup-series-fall-cyclefest-of-speed-5766
END:VEVENT

END:VCALENDAR
