BEGIN:VCALENDAR
VERSION:2.0
PRODID:-//ChamberMaster//Event Calendar 2.0//EN
METHOD:PUBLISH
X-PUBLISHED-TTL:P3D
REFRESH-INTERVAL:P3D
CALSCALE:GREGORIAN
BEGIN:VEVENT
DTSTART;VALUE=DATE:20180714
DTEND;VALUE=DATE:20180716
TRANSP:TRANSPARENT
X-MICROSOFT-CDO-ALLDAYEVENT:TRUE
SUMMARY:Championship Cup Series Motorcycle Road Racing
DESCRIPTION:The Championship Cup Series is the national leader in sportsman level motorcycle road racing. The annual battle for the CCS Mid-Atlantic Championship rolls in for its 13th Paul Farrell Memorial. The pressure will be on as caution is thrown to the wind and riders get set to battle it out. Stay tuned for additional races and activities in the works!\n\nAll current military will be admitted free and veterans will receive a 50% discount to ALL VIR events. Children 16 and under are always free with a paying adult and there is no cost for parking.
X-ALT-DESC;FMTTYPE=text/html:<p style="box-sizing: border-box\; margin: 1em 0px\; hyphens: none\; line-height: 1.5em\; color: rgb(0\, 0\, 0)\; font-family: HelveticaNeue-Light\, &quot\;Helvetica Neue Light&quot\;\, &quot\;Helvetica Neue&quot\;\, Helvetica\, Arial\, &quot\;Lucida Grande&quot\;\, sans-serif\; font-size: 16px\;">The Championship Cup Series is the national leader in sportsman level motorcycle road&nbsp\;racing. The annual battle for the CCS Mid-Atlantic Championship rolls in for its 13th Paul Farrell&nbsp\;Memorial. The pressure will be on as caution is thrown to the wind and riders get set to battle it out.&nbsp\;Stay tuned for additional races and activities in the works!</p>\n\n<p style="box-sizing: border-box\; margin: 1em 0px\; hyphens: none\; line-height: 1.5em\; color: rgb(0\, 0\, 0)\; font-family: HelveticaNeue-Light\, &quot\;Helvetica Neue Light&quot\;\, &quot\;Helvetica Neue&quot\;\, Helvetica\, Arial\, &quot\;Lucida Grande&quot\;\, sans-serif\; font-size: 16px\;"><strong style="box-sizing: border-box\;">All current military will be admitted free and veterans will receive a 50% discount to ALL VIR events. Children 16 and under are always free with a paying adult and there is no cost for parking.</strong></p>\n\n<div>&nbsp\;</div>\n
LOCATION:VIRginia International Raceway 1245 Pine Tree Road Alton\, VA
UID:e.845.7208
SEQUENCE:3
DTSTAMP:20260421T235012Z
URL:https://business.halifaxchamber.net/events/details/championship-cup-series-motorcycle-road-racing-7208
END:VEVENT

END:VCALENDAR
