BEGIN:VCALENDAR
VERSION:2.0
PRODID:-//ChamberMaster//Event Calendar 2.0//EN
METHOD:PUBLISH
X-PUBLISHED-TTL:P3D
REFRESH-INTERVAL:P3D
CALSCALE:GREGORIAN
BEGIN:VEVENT
DTSTART:20200222T013000Z
DTEND:20200222T043000Z
X-MICROSOFT-CDO-ALLDAYEVENT:FALSE
SUMMARY:Chance of Snow at the World of Sports
DESCRIPTION:Chance of Snow performing live at the World of Sports.
X-ALT-DESC;FMTTYPE=text/html:Chance of Snow performing live at the World of Sports.&nbsp\;
LOCATION:World of Sports 2030 Bill Tuck Highway South Boston\, VA 24592
UID:e.845.17486
SEQUENCE:3
DTSTAMP:20260420T152237Z
URL:https://business.halifaxchamber.net/events/details/chance-of-snow-at-the-world-of-sports-02-21-2020-17486
END:VEVENT

END:VCALENDAR
