BEGIN:VCALENDAR
VERSION:2.0
PRODID:-//ChamberMaster//Event Calendar 2.0//EN
METHOD:PUBLISH
X-PUBLISHED-TTL:P3D
REFRESH-INTERVAL:P3D
CALSCALE:GREGORIAN
BEGIN:VEVENT
DTSTART:20191221T020000Z
DTEND:20191221T045500Z
X-MICROSOFT-CDO-ALLDAYEVENT:FALSE
SUMMARY:Chance of Snow at the World of Sports
DESCRIPTION:Chance of Snow performing live at the World of Sports Friday\, December 20th.
X-ALT-DESC;FMTTYPE=text/html:Chance of Snow performing live at the World of Sports Friday\, December 20th.
LOCATION:World of Sports 2030 Bill Tuck Highway South Boston\, VA 24592
UID:e.845.15569
SEQUENCE:3
DTSTAMP:20260420T200552Z
URL:https://business.halifaxchamber.net/events/details/chance-of-snow-at-the-world-of-sports-12-20-2019-15569
END:VEVENT

END:VCALENDAR
