BEGIN:VCALENDAR
VERSION:2.0
PRODID:-//ChamberMaster//Event Calendar 2.0//EN
METHOD:PUBLISH
X-PUBLISHED-TTL:P3D
REFRESH-INTERVAL:P3D
CALSCALE:GREGORIAN
BEGIN:VEVENT
DTSTART;VALUE=DATE:20150418
DTEND;VALUE=DATE:20150419
TRANSP:TRANSPARENT
X-MICROSOFT-CDO-ALLDAYEVENT:TRUE
SUMMARY:Cheese Making Class
DESCRIPTION:Hudson Heritage Farms            \n\nSoft-Cheese Making Class\n\nWith Special Guest Instructor\n\nSharon Munyak from Hobby Hill Farms\n\n \n\nWhen: Saturday\, April 18th\, 2015\,  11:00-1:00\n\n \n\nWhere: The Farm Studio at Hudson Heritage Farms\n\n             14242 River Road\n\n             South Boston\, VA\n\n             753-9327\n\n             hudsonheritage@aol.com\n\n \n\nCost:     $35* \n\n \n\nHow to register: Call or email the farm to get on the list. Then send us your check to confirm your space.  Class sizes are limited. \n\n \n\nUnlike our previous cheese classes this class with explore the making of more advanced cheeses like Queso\, Cream Cheese\, and Chevre. The class will consist of a demonstration and opportunity for hands on experience of making several soft cheeses. We will also sample cheeses and have beverages available. If you want to bring your own libation you are welcome to do so.
X-ALT-DESC;FMTTYPE=text/html:<span style="font-size:26pt"><span style="font-family:mongolian baiti">Hudson Heritage Farms&nbsp\;&nbsp\;&nbsp\;&nbsp\;&nbsp\;&nbsp\;&nbsp\;&nbsp\;&nbsp\;&nbsp\;&nbsp\; </span></span><br />\n<span style="font-size:26pt"><span style="font-family:mongolian baiti">Soft-Cheese Making Class</span></span><br />\n<span style="font-size:18pt"><span style="font-family:mongolian baiti">With Special Guest Instructor</span></span><br />\n<span style="font-size:18pt"><span style="font-family:mongolian baiti">Sharon Munyak from Hobby Hill Farms</span></span><br />\n&nbsp\;<br />\n<span style="font-size:14pt"><span style="font-family:mongolian baiti">When: Saturday\, April 18th\, 2015\, &nbsp\;11:00-1:00</span></span><br />\n&nbsp\;<br />\n<span style="font-size:14pt"><span style="font-family:mongolian baiti">Where: The Farm Studio at Hudson Heritage Farms</span></span><br />\n<span style="font-size:14pt"><span style="font-family:mongolian baiti">&nbsp\;&nbsp\;&nbsp\;&nbsp\;&nbsp\;&nbsp\;&nbsp\;&nbsp\;&nbsp\;&nbsp\;&nbsp\;&nbsp\; 14242 River Road</span></span><br />\n<span style="font-size:14pt"><span style="font-family:mongolian baiti">&nbsp\;&nbsp\;&nbsp\;&nbsp\;&nbsp\;&nbsp\;&nbsp\;&nbsp\;&nbsp\; &nbsp\;&nbsp\; South Boston\, VA</span></span><br />\n<span style="font-size:14pt"><span style="font-family:mongolian baiti">&nbsp\;&nbsp\;&nbsp\;&nbsp\;&nbsp\;&nbsp\;&nbsp\;&nbsp\;&nbsp\;&nbsp\;&nbsp\;&nbsp\; 753-9327</span></span><br />\n<span style="font-size:14pt"><span style="font-family:mongolian baiti">&nbsp\;&nbsp\;&nbsp\;&nbsp\;&nbsp\;&nbsp\;&nbsp\;&nbsp\;&nbsp\; &nbsp\;&nbsp\; </span></span><a href="mailto:hudsonheritage@aol.com"><span style="font-size:14pt"><span style="font-family:mongolian baiti"><span style="color:rgb(0\, 0\, 255)">hudsonheritage@aol.com</span></span></span></a><br />\n&nbsp\;<br />\n<span style="font-size:14pt"><span style="font-family:mongolian baiti">Cost:&nbsp\;&nbsp\;&nbsp\;&nbsp\; $35* </span></span><br />\n&nbsp\;<br />\n<span style="font-size:14pt"><span style="font-family:mongolian baiti">How to register: Call or email the farm to get on the list. Then send us your check to confirm your space.&nbsp\; Class sizes are limited. </span></span><br />\n&nbsp\;<br />\n<span style="font-size:14pt"><span style="font-family:mongolian baiti">Unlike our previous cheese classes this class with explore the making of more advanced cheeses like Queso\, Cream Cheese\, and Chevre. The class will consist of a demonstration and opportunity for hands on experience of making several soft cheeses. We will also sample cheeses and have beverages available. If you want to bring your own libation you are welcome to do so.&nbsp\; </span></span><br />\n&nbsp\;
LOCATION:Hudson Heritage Farms Studio
UID:e.845.2485
SEQUENCE:3
DTSTAMP:20260426T035151Z
URL:https://business.halifaxchamber.net/events/details/cheese-making-class-04-18-2015-2485
END:VEVENT

END:VCALENDAR
