BEGIN:VCALENDAR
VERSION:2.0
PRODID:-//ChamberMaster//Event Calendar 2.0//EN
METHOD:PUBLISH
X-PUBLISHED-TTL:P3D
REFRESH-INTERVAL:P3D
CALSCALE:GREGORIAN
BEGIN:VEVENT
DTSTART:20191201T180000Z
DTEND:20191201T220000Z
X-MICROSOFT-CDO-ALLDAYEVENT:FALSE
SUMMARY:Children's Gift Giving Bazzar
DESCRIPTION:The Town of Halifax Farmers Market invites you to bring your children 12 and under to the Children's Gift Giving Bazzar to shop for gifts for family and friends. The Market will be open on Sundays from 1p-5p and Saturdays 9a-3p through 12-15 and all items are priced under $3 each. \n\nIf you would like to donate items to be sold\, please contact Denise at 434-476-2343 or Susi at 434-222-5167.
X-ALT-DESC;FMTTYPE=text/html:The Town of Halifax Farmers Market invites you to bring your children 12 and under to the Children&#39\;s Gift Giving Bazzar to shop for gifts for family and friends. The Market will be open on Sundays from 1p-5p and Saturdays 9a-3p through 12-15 and all items are priced under $3 each.&nbsp\;<br />\nIf you would like to donate items to be sold\, please contact Denise at 434-476-2343 or Susi at 434-222-5167.&nbsp\;
LOCATION:Town of Halifax Farmers Market
UID:e.845.15500
SEQUENCE:3
DTSTAMP:20260420T200134Z
URL:https://business.halifaxchamber.net/events/details/children-s-gift-giving-bazzar-12-01-2019-15500
END:VEVENT

END:VCALENDAR
