BEGIN:VCALENDAR
VERSION:2.0
PRODID:-//ChamberMaster//Event Calendar 2.0//EN
METHOD:PUBLISH
X-PUBLISHED-TTL:P3D
REFRESH-INTERVAL:P3D
CALSCALE:GREGORIAN
BEGIN:VEVENT
DTSTART:20170826T010000Z
DTEND:20170826T035500Z
X-MICROSOFT-CDO-ALLDAYEVENT:FALSE
SUMMARY:Chris Fisher at JB's
DESCRIPTION:Chris Fisher performing live at JB's Burgers\, Apps and Taps.
X-ALT-DESC;FMTTYPE=text/html:Chris Fisher performing live at JB&#39\;s Burgers\, Apps and Taps.&nbsp\;
LOCATION:World of Sports JB's Brugers\, Apps and Taps 2030 Bill Tuck Highway South Boston\, VA
UID:e.845.7049
SEQUENCE:3
DTSTAMP:20260422T175752Z
URL:https://business.halifaxchamber.net/events/details/chris-fisher-at-jb-s-7049
END:VEVENT

END:VCALENDAR
