BEGIN:VCALENDAR
VERSION:2.0
PRODID:-//ChamberMaster//Event Calendar 2.0//EN
METHOD:PUBLISH
X-PUBLISHED-TTL:P3D
REFRESH-INTERVAL:P3D
CALSCALE:GREGORIAN
BEGIN:VEVENT
DTSTART:20170429T010000Z
DTEND:20170429T035500Z
X-MICROSOFT-CDO-ALLDAYEVENT:FALSE
SUMMARY:Chris Fisher Live at JB's
DESCRIPTION:Live Entertainment by Chris Fisher at JB's Burgers\, Apps and Taps
X-ALT-DESC;FMTTYPE=text/html:Live Entertainment by Chris Fisher at JB&#39\;s Burgers\, Apps and Taps
LOCATION:Located in the World of Sports 2030 Bill Tuck Highway South Boston\, VA 24592
UID:e.845.5874
SEQUENCE:3
DTSTAMP:20260424T132120Z
URL:https://business.halifaxchamber.net/events/details/chris-fisher-live-at-jb-s-04-28-2017-5874
END:VEVENT

END:VCALENDAR
