BEGIN:VCALENDAR
VERSION:2.0
PRODID:-//ChamberMaster//Event Calendar 2.0//EN
METHOD:PUBLISH
X-PUBLISHED-TTL:P3D
REFRESH-INTERVAL:P3D
CALSCALE:GREGORIAN
BEGIN:VEVENT
DTSTART:20181117T003000Z
DTEND:20181117T020000Z
X-MICROSOFT-CDO-ALLDAYEVENT:FALSE
SUMMARY:Christmas Belles
DESCRIPTION:The annual Christmas pageant at the Church of the Lamb in Fayro\, Texas\, may never be the same! Honey Rae Futrelle plans to make it a lot more exciting\, but her sisters and their crazy lives complicate things\, and the results will keep audiences laughing long after the final curtain!
X-ALT-DESC;FMTTYPE=text/html:<span style="caret-color: rgb(51\, 51\, 51)\; color: rgb(51\, 51\, 51)\; font-family: Helvetica\, Arial\, sans-serif\; font-size: 15px\; background-color: rgba(245\, 240\, 236\, 0.498039)\;">The annual Christmas pageant at the Church of the Lamb in Fayro\, Texas\, may never be the same! Honey Rae Futrelle plans to make it a lot more exciting\, but her sisters and their crazy lives complicate things\, and the results will keep audiences laughing long after the final curtain!</span>
LOCATION:The Prizery 820 Bruce Street South Boston
UID:e.845.8569
SEQUENCE:3
DTSTAMP:20260421T171104Z
URL:https://business.halifaxchamber.net/events/details/christmas-belles-8569
END:VEVENT

END:VCALENDAR
