BEGIN:VCALENDAR
VERSION:2.0
PRODID:-//ChamberMaster//Event Calendar 2.0//EN
METHOD:PUBLISH
X-PUBLISHED-TTL:P3D
REFRESH-INTERVAL:P3D
CALSCALE:GREGORIAN
BEGIN:VEVENT
DTSTART:20181212T130000Z
DTEND:20181212T140000Z
X-MICROSOFT-CDO-ALLDAYEVENT:FALSE
SUMMARY:Christmas Coffee and Commerce-Bagwell & Bagwell\, P.C.
DESCRIPTION:Join April\, George\, Rhonda\, Carrie and Shadow for a Christmas Coffee and Commerce event at Bagwell & Bagwell! Coffee\, homemade treats and conversation await you!
X-ALT-DESC;FMTTYPE=text/html:Join April\, George\, Rhonda\, Carrie and Shadow for a Christmas Coffee and Commerce event at Bagwell &amp\; Bagwell! Coffee\, homemade treats and conversation await you!&nbsp\;
LOCATION:Bagwell & Bagwell\, P.C. 47 S. Main Street Halifax\, VA 24558
UID:e.845.8593
SEQUENCE:3
DTSTAMP:20260421T140400Z
URL:https://business.halifaxchamber.net/events/details/christmas-coffee-and-commerce-bagwell-bagwell-p-c-8593
END:VEVENT

END:VCALENDAR
