BEGIN:VCALENDAR
VERSION:2.0
PRODID:-//ChamberMaster//Event Calendar 2.0//EN
METHOD:PUBLISH
X-PUBLISHED-TTL:P3D
REFRESH-INTERVAL:P3D
CALSCALE:GREGORIAN
BEGIN:VEVENT
DTSTART:20181208T000000Z
DTEND:20181208T010000Z
X-MICROSOFT-CDO-ALLDAYEVENT:FALSE
SUMMARY:Christmas on Berry Hill
DESCRIPTION:We invite all family & friends for a special Christmas Celebration! Refreshments\, Special Performances by Essence of Movement & We've Got Rhythem Dancers. Special Music by Lionel Best\, Jr & Crystal Hill Baptist Church Choir\, Praise dancers from DRBBC\, Words from Minister Braxton Braswell.\n\nSpecial Apperance by Santa Claus!\n\n\n\nPlease RSVP by Wed.\, Dec 5 by calling Wendy Tucker at 434-572-8901 ext.53922 or email by brh-act@berryhilltc.com
X-ALT-DESC;FMTTYPE=text/html:We invite all family &amp\; friends for a special Christmas Celebration! Refreshments\, Special Performances by Essence of Movement &amp\; We&#39\;ve Got Rhythem Dancers. Special Music by Lionel Best\, Jr &amp\; Crystal Hill Baptist Church Choir\, Praise dancers from DRBBC\, Words from Minister Braxton Braswell.<br />\nSpecial Apperance by Santa Claus!<br />\n<br />\nPlease RSVP by Wed.\, Dec 5 by calling Wendy Tucker at 434-572-8901 ext.53922 or email by brh-act@berryhilltc.com
LOCATION:Berry Hill Health & Rehab Center 621 Berry Hill Road South Boston\, VA
UID:e.845.8607
SEQUENCE:3
DTSTAMP:20260421T135935Z
URL:https://business.halifaxchamber.net/events/details/christmas-on-berry-hill-8607
END:VEVENT

END:VCALENDAR
