BEGIN:VCALENDAR
VERSION:2.0
PRODID:-//ChamberMaster//Event Calendar 2.0//EN
METHOD:PUBLISH
X-PUBLISHED-TTL:P3D
REFRESH-INTERVAL:P3D
CALSCALE:GREGORIAN
BEGIN:VEVENT
DTSTART:20191124T180000Z
DTEND:20191124T220000Z
X-MICROSOFT-CDO-ALLDAYEVENT:FALSE
SUMMARY:Christmas Open House
DESCRIPTION:33rd Annual Downtown South Boston Christmas Open House\n\nStart the holiday season with merchants opening their doors for your holiday shopping pleasure. Stroll along enjoying the holiday lights and decorations while listening to Christmas Music.\n\nSanta Pictures 1-4pm with David Conner II printing pictures on site. You are also welcome to bring your own camera and visit with Santa!\n\nRegister to win $100 Downtown Gift Certitifcate!
X-ALT-DESC;FMTTYPE=text/html:33rd Annual Downtown South Boston Christmas Open House<br />\nStart the holiday season with merchants opening their doors for your holiday shopping pleasure. Stroll along enjoying the holiday lights and decorations while listening to Christmas Music.<br />\nSanta Pictures 1-4pm with David Conner II printing pictures on site. You are also welcome to bring your own camera and visit with Santa!<br />\nRegister to win $100 Downtown Gift Certitifcate!
LOCATION:Downtown South Boston
UID:e.845.15529
SEQUENCE:3
DTSTAMP:20260420T195820Z
URL:https://business.halifaxchamber.net/events/details/christmas-open-house-15529
END:VEVENT

END:VCALENDAR
