BEGIN:VCALENDAR
VERSION:2.0
PRODID:-//ChamberMaster//Event Calendar 2.0//EN
METHOD:PUBLISH
X-PUBLISHED-TTL:P3D
REFRESH-INTERVAL:P3D
CALSCALE:GREGORIAN
BEGIN:VEVENT
DTSTART:20161127T180000Z
DTEND:20161127T220000Z
X-MICROSOFT-CDO-ALLDAYEVENT:FALSE
SUMMARY:Christmas Open House - Main Street in the Town of Halifax
DESCRIPTION:Christmas Open House. Great Buys and Refreshments\, Horse Drawn Wagon Rides\, Kids Scavenger Hunt\, Mr. and Mrs. Claus\, Antique Car Display\, Register To Win World's Largest Stocking and More! Drawing for $250 Town of Halifax Shopping Spree.
X-ALT-DESC;FMTTYPE=text/html:Christmas Open House. Great Buys and Refreshments\, Horse Drawn Wagon Rides\, Kids Scavenger Hunt\, Mr. and Mrs. Claus\, Antique Car Display\, Register&nbsp\;To Win World&#39\;s Largest Stocking and More! Drawing for $250 Town of Halifax Shopping Spree.&nbsp\;
LOCATION:Main Street Town of Halifax
UID:e.845.5733
SEQUENCE:3
DTSTAMP:20260424T193958Z
URL:https://business.halifaxchamber.net/events/details/christmas-open-house-main-street-in-the-town-of-halifax-5733
END:VEVENT

END:VCALENDAR
