BEGIN:VCALENDAR
VERSION:2.0
PRODID:-//ChamberMaster//Event Calendar 2.0//EN
METHOD:PUBLISH
X-PUBLISHED-TTL:P3D
REFRESH-INTERVAL:P3D
CALSCALE:GREGORIAN
BEGIN:VEVENT
DTSTART:20171126T180000Z
DTEND:20171126T220000Z
X-MICROSOFT-CDO-ALLDAYEVENT:FALSE
SUMMARY:Christmas Open House & Scavenger Hunt
DESCRIPTION:The Town of Halifax will be holding their annual Christmas Open House and Scavenger Hunt on Sunday November 26th from 1:00 - 5:00PM.\n\n\n\nHand deliver letters to Santa and Mrs. Clause at the Cozy Cottage from 1-5. Bring your camera and enjoy some hot apple cider.\n\n\n\nSee beautiful antique cars on Main Street.\n\n\n\nRegister to win the 7th Annual Holiday Giveaway of $500\, the World's Largest Stocking and $10\, $25\, $50\, and $100 Peddler's Market Gift Certificates. Be sure to register at both locations.\n\n\n\nRegister to win a $250 Shopping Spree at any participating Merchant's Location.\n\n\n\nChristmas music by Ernest Galindo at Peddler's Market21. \n\n\n\nKid's Town is located at the Farmers Market. Children's Gift Giving Bazaar. Children ages 12 and under will be able to come in and shop for their family and friends. Items will be priced 50 cents and $2.\n\n\n\nCome Celebrate with:\n\nBlessed Hope\n\nThe Cozy Cottage\n\nThe Cabinet Maker\n\nCole's Cards and Comics\n\nGuns-N-Stuff\n\nHalifax Farmer's Market\n\nHalifax Public Library\n\nHite Insurance\n\nJoe & A Bow\n\nMolasses Grill (opening at 5pm)\n\nThe Pack House (open from 12-4)\n\nPeddler's Market Exchange Store\n\nPeddler's Market21\n\nToots Creek Mall
X-ALT-DESC;FMTTYPE=text/html:The Town of Halifax will be holding their annual Christmas Open House and Scavenger Hunt on Sunday November 26th from 1:00 - 5:00PM.<br />\n<br />\nHand deliver letters to Santa and Mrs. Clause at the Cozy Cottage from 1-5. Bring your camera and enjoy some hot apple cider.<br />\n<br />\nSee beautiful antique cars on Main Street.<br />\n<br />\nRegister to win the 7th&nbsp\;Annual Holiday Giveaway of $500\, the World&#39\;s Largest Stocking and $10\, $25\, $50\, and $100 Peddler&#39\;s Market Gift Certificates. Be sure to register at both locations.<br />\n<br />\nRegister to win a $250 Shopping Spree at any participating Merchant&#39\;s Location.<br />\n<br />\nChristmas music by Ernest Galindo at Peddler&#39\;s Market21.&nbsp\;<br />\n<br />\nKid&#39\;s Town is located at the Farmers Market. Children&#39\;s Gift Giving Bazaar. Children ages 12 and under will be able&nbsp\;to come in and shop for their family and friends. Items will be priced 50 cents and $2.<br />\n<br />\nCome Celebrate with:<br />\nBlessed Hope<br />\nThe Cozy Cottage<br />\nThe Cabinet Maker<br />\nCole&#39\;s Cards and Comics<br />\nGuns-N-Stuff<br />\nHalifax Farmer&#39\;s Market<br />\nHalifax Public Library<br />\nHite Insurance<br />\nJoe &amp\; A Bow<br />\nMolasses Grill (opening at 5pm)<br />\nThe Pack House (open from 12-4)<br />\nPeddler&#39\;s Market Exchange Store<br />\nPeddler&#39\;s Market21<br />\nToots Creek Mall
LOCATION:Town of Halifax
UID:e.845.7172
SEQUENCE:3
DTSTAMP:20260422T121136Z
URL:https://business.halifaxchamber.net/events/details/christmas-open-house-scavenger-hunt-7172
END:VEVENT

END:VCALENDAR
