BEGIN:VCALENDAR
VERSION:2.0
PRODID:-//ChamberMaster//Event Calendar 2.0//EN
METHOD:PUBLISH
X-PUBLISHED-TTL:P3D
REFRESH-INTERVAL:P3D
CALSCALE:GREGORIAN
BEGIN:VEVENT
DTSTART:20181125T230000Z
DTEND:20181126T000000Z
X-MICROSOFT-CDO-ALLDAYEVENT:FALSE
SUMMARY:Christmas Parade - Town of Halifax
DESCRIPTION:Christmas is coming soon and the Halifax Village Association will be holding the Children's Christmas Parade on Sunday November 25th at 6 PM. The theme this year is " Christmas at our House. "
X-ALT-DESC;FMTTYPE=text/html:Christmas is coming soon and the Halifax Village Association will be holding the Children&#39\;s Christmas Parade on Sunday November 25th at 6 PM. The theme this year is &quot\; Christmas at our House. &quot\;
LOCATION:Town of Halifax
UID:e.845.8567
SEQUENCE:3
DTSTAMP:20260421T153857Z
URL:https://business.halifaxchamber.net/events/details/christmas-parade-town-of-halifax-8567
END:VEVENT

END:VCALENDAR
