BEGIN:VCALENDAR
VERSION:2.0
PRODID:-//ChamberMaster//Event Calendar 2.0//EN
METHOD:PUBLISH
X-PUBLISHED-TTL:P3D
REFRESH-INTERVAL:P3D
CALSCALE:GREGORIAN
BEGIN:VEVENT
DTSTART:20171216T160000Z
DTEND:20171216T220000Z
X-MICROSOFT-CDO-ALLDAYEVENT:FALSE
SUMMARY:Christmas Treats at Hunting Creek Vineyards
DESCRIPTION:Love the holiday sweet and treats but don't have time to bake this year? This is the event for you! Join us at Hunting Creek Vineyards and taste our wines while purchasing several locally made holiday candies\, cookies\, and more. This event will be held December 16th from 11:00am - 5:00pm.
X-ALT-DESC;FMTTYPE=text/html:Love the holiday sweet and treats but don&#39\;t have time to bake this year? This is the event for you! Join us at Hunting Creek Vineyards and taste our wines while purchasing several locally made holiday candies\, cookies\, and more. This event will be held December 16th&nbsp\;from 11:00am - 5:00pm.
LOCATION:Hunting Creek Vineyards 2000 Addie Williams Trail Clover\, VA
UID:e.845.7146
SEQUENCE:3
DTSTAMP:20260422T105253Z
URL:https://business.halifaxchamber.net/events/details/christmas-treats-at-hunting-creek-vineyards-7146
END:VEVENT

END:VCALENDAR
