BEGIN:VCALENDAR
VERSION:2.0
PRODID:-//ChamberMaster//Event Calendar 2.0//EN
METHOD:PUBLISH
X-PUBLISHED-TTL:P3D
REFRESH-INTERVAL:P3D
CALSCALE:GREGORIAN
BEGIN:VEVENT
DTSTART:20181208T153000Z
DTEND:20181208T180000Z
X-MICROSOFT-CDO-ALLDAYEVENT:FALSE
SUMMARY:Church of God Special Olympics Fundraiser
DESCRIPTION:Members of the South Boston Church of God are freezing and grilling for a reason with a barbecue fundraiser. And that reason is the Halifax County Polar Plunge participants will be participating in the Special Olympics Virginia Polar Plunge on Feb. 2 2018. To help with fundraising goals\,the South Boston Church of God will be serving up barbeque cooked by Darrell Chandler of TC's Bar-B-Que.
X-ALT-DESC;FMTTYPE=text/html:Members of the South Boston Church of God are freezing and grilling for a reason with a barbecue fundraiser. And that reason is the Halifax County Polar Plunge participants will be participating in the Special Olympics Virginia Polar Plunge on Feb. 2 2018. To help with fundraising goals\,the South Boston Church of God will be serving up barbeque cooked by Darrell Chandler of TC&#39\;s Bar-B-Que.
LOCATION:South Boston Church of God
UID:e.845.11433
SEQUENCE:3
DTSTAMP:20260421T153232Z
URL:https://business.halifaxchamber.net/events/details/church-of-god-special-olympics-fundraiser-11433
END:VEVENT

END:VCALENDAR
