BEGIN:VCALENDAR
VERSION:2.0
PRODID:-//ChamberMaster//Event Calendar 2.0//EN
METHOD:PUBLISH
X-PUBLISHED-TTL:P3D
REFRESH-INTERVAL:P3D
CALSCALE:GREGORIAN
BEGIN:VEVENT
DTSTART:20200229T140000Z
DTEND:20200229T220000Z
X-MICROSOFT-CDO-ALLDAYEVENT:FALSE
SUMMARY:Civil War and Military Show at The Museum
DESCRIPTION:Historians\, collectors and military buffs will return for the third annual Civil War and Military Collectors Show.  This year the event promises to be the largest one to date\, and it will take place following the celebration of the 239th anniversary of the Crossing of the Dan\, marking the late stage of the "Race to the Dan" that preserved the southern Army of General Nathaniel Greene in the Revolutionary War.\nThe show will be featuring more than 20 exhibitors and more than 30 tables of military artifacts.
X-ALT-DESC;FMTTYPE=text/html:<span style="font-family:arial\;"><span style="color: rgb(0\, 0\, 0)\; font-size: medium\;">Historians\, collectors and military buffs will return for the third annual Civil War and Military Collectors Show.&nbsp\; This year the event promises to be the largest one to date\, and it will take place following the celebration of the 239th anniversary of the Crossing of the Dan\, marking the late stage of the &ldquo\;Race to the Dan&rdquo\; that preserved the southern Army of General Nathaniel Greene in the Revolutionary War.</span></span>\n<p style="color: rgb(0\, 0\, 0)\; font-family: Times\; font-size: medium\;"><span style="font-family:arial\;">The show will be featuring more than 20 exhibitors and more than 30 tables of military artifacts.</span></p>\n
LOCATION:South Boston-Halifax County Museum of Fine Arts
UID:e.845.17463
SEQUENCE:3
DTSTAMP:20260420T152114Z
URL:https://business.halifaxchamber.net/events/details/civil-war-and-military-show-at-the-museum-17463
END:VEVENT

END:VCALENDAR
