BEGIN:VCALENDAR
VERSION:2.0
PRODID:-//ChamberMaster//Event Calendar 2.0//EN
METHOD:PUBLISH
X-PUBLISHED-TTL:P3D
REFRESH-INTERVAL:P3D
CALSCALE:GREGORIAN
BEGIN:VEVENT
DTSTART:20190914T150000Z
DTEND:20190914T150000Z
X-MICROSOFT-CDO-ALLDAYEVENT:FALSE
SUMMARY:Clover Volunteer Fire Department Annual Fall Festival
DESCRIPTION:The Clover Volunteer Fire Department Annual Fall Festival will begin with a parade from Clover General Store to the intersection at South Main Street and Mosley Ferry Road. Music\, food and other entertainment will be available all day.
X-ALT-DESC;FMTTYPE=text/html:The Clover Volunteer Fire Department Annual Fall Festival will begin with a parade from Clover General Store to the intersection at South Main Street and Mosley Ferry Road. Music\, food and other entertainment will be available all day.
LOCATION:
UID:e.845.13290
SEQUENCE:3
DTSTAMP:20260421T012605Z
URL:https://business.halifaxchamber.net/events/details/clover-volunteer-fire-department-annual-fall-festival-13290
END:VEVENT

END:VCALENDAR
