BEGIN:VCALENDAR
VERSION:2.0
PRODID:-//ChamberMaster//Event Calendar 2.0//EN
METHOD:PUBLISH
X-PUBLISHED-TTL:P3D
REFRESH-INTERVAL:P3D
CALSCALE:GREGORIAN
BEGIN:VEVENT
DTSTART:20180612T120000Z
DTEND:20180612T130000Z
X-MICROSOFT-CDO-ALLDAYEVENT:FALSE
SUMMARY:Coffee and Commerce
DESCRIPTION:Join us for a morning networking session with The Covington Law Firm. \n\nSee the office and learn more about what they do\, while meeting other professionals!\n\nWe will provide coffee and light snacks from 8am-9am.
X-ALT-DESC;FMTTYPE=text/html:Join us for a morning networking session with The Covington Law Firm.&nbsp\;<br />\nSee the office and learn more about what they do\, while meeting other professionals!<br />\nWe will provide coffee and light snacks from 8am-9am.&nbsp\;<br />\n&nbsp\;
LOCATION:The Covington Law Firm 5310 Halifax Road Halifax\, Virginia
UID:e.845.8307
SEQUENCE:3
DTSTAMP:20260422T000434Z
URL:https://business.halifaxchamber.net/events/details/coffee-and-commerce-06-13-2018-8307
END:VEVENT

END:VCALENDAR
