BEGIN:VCALENDAR
VERSION:2.0
PRODID:-//ChamberMaster//Event Calendar 2.0//EN
METHOD:PUBLISH
X-PUBLISHED-TTL:P3D
REFRESH-INTERVAL:P3D
CALSCALE:GREGORIAN
BEGIN:VEVENT
DTSTART:20190314T120000Z
DTEND:20190314T130000Z
X-MICROSOFT-CDO-ALLDAYEVENT:FALSE
SUMMARY:Coffee and Commerce at Sentara Woodview
DESCRIPTION:Join Sentara Woodview for a Coffee and Commerce event. \n\nSee the newly remodeled lobby area while you enjoy coffee and morning conversation.
X-ALT-DESC;FMTTYPE=text/html:Join Sentara Woodview for a Coffee and Commerce event.&nbsp\;<br>\nSee the newly remodeled lobby area while you enjoy coffee and morning conversation.&nbsp\;
LOCATION:Senatara Woodview 103 Rosehill Drive South Boston\, VA
UID:e.845.11700
SEQUENCE:3
DTSTAMP:20260421T093729Z
URL:https://business.halifaxchamber.net/events/details/coffee-and-commerce-at-sentara-woodview-11700
END:VEVENT

END:VCALENDAR
