BEGIN:VCALENDAR
VERSION:2.0
PRODID:-//ChamberMaster//Event Calendar 2.0//EN
METHOD:PUBLISH
X-PUBLISHED-TTL:P3D
REFRESH-INTERVAL:P3D
CALSCALE:GREGORIAN
BEGIN:VEVENT
DTSTART:20181113T130000Z
DTEND:20181113T140000Z
X-MICROSOFT-CDO-ALLDAYEVENT:FALSE
SUMMARY:Coffee and Commerce Halifax Village Association
DESCRIPTION:Join Halifax Village Association for Coffee and Commerce! \n\nA morning networking session offered by Halifax County Chamber of Commerce.
X-ALT-DESC;FMTTYPE=text/html:Join Halifax Village Association for Coffee and Commerce!&nbsp\;<br />\nA morning networking session offered by Halifax County Chamber of Commerce.&nbsp\;
LOCATION:Halifax County Cancer Association Office 29 S Main Street Halifax\, VA 24558
UID:e.845.8551
SEQUENCE:3
DTSTAMP:20260421T153044Z
URL:https://business.halifaxchamber.net/events/details/coffee-and-commerce-halifax-village-association-8551
END:VEVENT

END:VCALENDAR
