BEGIN:VCALENDAR
VERSION:2.0
PRODID:-//ChamberMaster//Event Calendar 2.0//EN
METHOD:PUBLISH
X-PUBLISHED-TTL:P3D
REFRESH-INTERVAL:P3D
CALSCALE:GREGORIAN
BEGIN:VEVENT
DTSTART:20190410T120000Z
DTEND:20190410T130000Z
X-MICROSOFT-CDO-ALLDAYEVENT:FALSE
SUMMARY:Coffee and Commerce SBHc Museum of Fine Arts & History
DESCRIPTION:South Boston-Halifax County Museum of Fine Arts & History invites you to join them for Coffee and Commerce between 8am-9am!
X-ALT-DESC;FMTTYPE=text/html:South Boston-Halifax County Museum of Fine Arts &amp\; History invites you to join them for Coffee and Commerce between 8am-9am!&nbsp\;
LOCATION:1540 Wilborn Avenue South Boston\, VA
UID:e.845.12375
SEQUENCE:3
DTSTAMP:20260421T080119Z
URL:https://business.halifaxchamber.net/events/details/coffee-and-commerce-sbhc-museum-of-fine-arts-history-12375
END:VEVENT

END:VCALENDAR
