BEGIN:VCALENDAR
VERSION:2.0
PRODID:-//ChamberMaster//Event Calendar 2.0//EN
METHOD:PUBLISH
X-PUBLISHED-TTL:P3D
REFRESH-INTERVAL:P3D
CALSCALE:GREGORIAN
BEGIN:VEVENT
DTSTART:20181005T120000Z
DTEND:20181005T130000Z
X-MICROSOFT-CDO-ALLDAYEVENT:FALSE
SUMMARY:Coffee and Commerce @ SVHEC Innovation Center
DESCRIPTION:Join us to kick off Manufacturing Day at the Innovation Center at SVHEC.
X-ALT-DESC;FMTTYPE=text/html:Join us to kick off Manufacturing Day at the Innovation Center at SVHEC.&nbsp\;<br />\n<br />\n&nbsp\;
LOCATION:Innovation Center at SVHEC
UID:e.845.8306
SEQUENCE:3
DTSTAMP:20260421T171430Z
URL:https://business.halifaxchamber.net/events/details/coffee-and-commerce-svhec-innovation-center-8306
END:VEVENT

END:VCALENDAR
