BEGIN:VCALENDAR
VERSION:2.0
PRODID:-//ChamberMaster//Event Calendar 2.0//EN
METHOD:PUBLISH
X-PUBLISHED-TTL:P3D
REFRESH-INTERVAL:P3D
CALSCALE:GREGORIAN
BEGIN:VEVENT
DTSTART:20190508T120000Z
DTEND:20190508T130000Z
X-MICROSOFT-CDO-ALLDAYEVENT:FALSE
SUMMARY:Coffee and Commerce @ The Busy Bean
DESCRIPTION:p.p1 {margin: 0.0px 0.0px 0.0px 0.0px\; font: 12.0px Arial\; color: #323333}\np.p2 {margin: 0.0px 0.0px 0.0px 0.0px\; font: 11.0px Arial\; color: #3e891e}\np.p3 {margin: 0.0px 0.0px 0.0px 0.0px\; font: 12.0px Arial\; color: #0433ff}\nspan.s1 {font-kerning: none}\nspan.s2 {font-kerning: none\; color: #323333}\nspan.s3 {text-decoration: underline \; font-kerning: none\; color: #0433ff}\n\nThis monthly event is an opportunity for our members and guests to mingle in a relaxed atmosphere\, talk about exciting happenings with their business and network with members!\n\n \n\nAttendees gather from 8:00am until 9:00am on the 2nd Wednesday of each month.\n\n \n\nWe look forward to seeing you!
X-ALT-DESC;FMTTYPE=text/html:<style type="text/css">p.p1 {margin: 0.0px 0.0px 0.0px 0.0px\; font: 12.0px Arial\; color: #323333}\np.p2 {margin: 0.0px 0.0px 0.0px 0.0px\; font: 11.0px Arial\; color: #3e891e}\np.p3 {margin: 0.0px 0.0px 0.0px 0.0px\; font: 12.0px Arial\; color: #0433ff}\nspan.s1 {font-kerning: none}\nspan.s2 {font-kerning: none\; color: #323333}\nspan.s3 {text-decoration: underline \; font-kerning: none\; color: #0433ff}\n</style>\n<p class="p1"><span class="s1">This monthly event is an opportunity for our members and guests to mingle in a relaxed atmosphere\, talk about exciting happenings with their business and network with members!</span></p>\n\n<p class="p2"><span class="s1">&nbsp\;</span></p>\n\n<p class="p1"><span class="s1">Attendees gather from 8:00am until 9:00am&nbsp\;on the 2nd Wednesday of each month.</span></p>\n\n<p class="p2"><span class="s1">&nbsp\;</span></p>\n\n<p class="p1"><span class="s1">We look forward to seeing you!&nbsp\;</span></p>\n
LOCATION:The Busy Bean 530 Wilborn Avenue South Boston\, VA 24592
UID:e.845.12440
SEQUENCE:3
DTSTAMP:20260421T062454Z
URL:https://business.halifaxchamber.net/events/details/coffee-and-commerce-the-busy-bean-12440
END:VEVENT

END:VCALENDAR
