BEGIN:VCALENDAR
VERSION:2.0
PRODID:-//ChamberMaster//Event Calendar 2.0//EN
METHOD:PUBLISH
X-PUBLISHED-TTL:P3D
REFRESH-INTERVAL:P3D
CALSCALE:GREGORIAN
BEGIN:VEVENT
DTSTART:20190206T130000Z
DTEND:20190206T140000Z
X-MICROSOFT-CDO-ALLDAYEVENT:FALSE
SUMMARY:Coffee and Commerce with Gateway Health
DESCRIPTION:Join Gateway Health for a Coffee and Commerce morning networking session. \n\nEnjoy coffee\, a breakfast bar and conversation!
X-ALT-DESC;FMTTYPE=text/html:Join Gateway Health for a Coffee and Commerce morning networking session.&nbsp\;<br />\nEnjoy coffee\, a breakfast bar and conversation!&nbsp\;
LOCATION:Fairfield Inn & Suites by Marriott 1120 Bill Tuck Hwy South Boston\, VA
UID:e.845.11699
SEQUENCE:3
DTSTAMP:20260421T110118Z
URL:https://business.halifaxchamber.net/events/details/coffee-and-commerce-with-gateway-health-11699
END:VEVENT

END:VCALENDAR
