BEGIN:VCALENDAR
VERSION:2.0
PRODID:-//ChamberMaster//Event Calendar 2.0//EN
METHOD:PUBLISH
X-PUBLISHED-TTL:P3D
REFRESH-INTERVAL:P3D
CALSCALE:GREGORIAN
BEGIN:VEVENT
DTSTART:20200728T123000Z
DTEND:20200728T133000Z
X-MICROSOFT-CDO-ALLDAYEVENT:FALSE
SUMMARY:Coffee Chat: What Exactly is "Design Thinking"?
DESCRIPTION:We have seen the use of design thinking in action as companies continue to adapt\, and some to thrive\, during COVID-19. What are common elements in the mindset of these successful businesses\, and how can we all learn to replicate that mindset as part of our own business and community culture going forward? Join Jacob Dolence and Brandon Hennessey as they discuss examples of success and preview a new short course the SBDC will be offering in Design Thinking.\n\n\n\nThe registration link includes a space for you to provide your questions for the team to consider prior to the chat. We encourage you to provide those.
X-ALT-DESC;FMTTYPE=text/html:<span style="color: rgb(35\, 35\, 51)\; font-family: Lato\, Helvetica\, Arial\; font-size: 14px\;">We have seen the use of design thinking in action as companies continue to adapt\, and some to thrive\, during COVID-19. What are common elements in the mindset of these successful businesses\, and how can we all learn to replicate that mindset as part of our own business and community culture going forward? Join Jacob Dolence and Brandon Hennessey as they discuss examples of success and preview a new short course the SBDC will be offering in Design Thinking.</span><br style="box-sizing: border-box\; color: rgb(35\, 35\, 51)\; font-family: Lato\, Helvetica\, Arial\; font-size: 14px\;" />\n<br style="box-sizing: border-box\; color: rgb(35\, 35\, 51)\; font-family: Lato\, Helvetica\, Arial\; font-size: 14px\;" />\n<span style="color: rgb(35\, 35\, 51)\; font-family: Lato\, Helvetica\, Arial\; font-size: 14px\;">The registration link includes a space for you to provide your questions for the team to consider prior to the chat. We encourage you to provide those.</span>
LOCATION:Register at: https://us02web.zoom.us/meeting/register/tZIlf-2vqj4jHNJJY_Av4JWqLBvmaLVvVt6w
UID:e.845.17718
SEQUENCE:3
DTSTAMP:20260420T062637Z
URL:https://business.halifaxchamber.net/events/details/coffee-chat-what-exactly-is-design-thinking-17718
END:VEVENT

END:VCALENDAR
