BEGIN:VCALENDAR
VERSION:2.0
PRODID:-//ChamberMaster//Event Calendar 2.0//EN
METHOD:PUBLISH
X-PUBLISHED-TTL:P3D
REFRESH-INTERVAL:P3D
CALSCALE:GREGORIAN
BEGIN:VEVENT
DTSTART:20191112T130000Z
DTEND:20191112T140000Z
X-MICROSOFT-CDO-ALLDAYEVENT:FALSE
SUMMARY:Coffee & Commerce @ Schewels Home
DESCRIPTION:Join Schewels Home for Coffee & Commerce.\n\n\n\nThis event is an opportunity for our members to mingle in a relaxed atmosphere\, talk about exciting happenings with their business and network with members!
X-ALT-DESC;FMTTYPE=text/html:Join Schewels Home for Coffee &amp\; Commerce.<br />\n<br />\nThis event is an opportunity for our members to mingle in a relaxed atmosphere\, talk about exciting happenings with their business and network with members!
LOCATION:Schewels Home 3211 Halifax Road South Boston\, VA 24592
UID:e.845.14463
SEQUENCE:3
DTSTAMP:20260420T195858Z
URL:https://business.halifaxchamber.net/events/details/coffee-commerce-schewels-home-14463
END:VEVENT

END:VCALENDAR
